BEGIN:VCALENDAR
VERSION:2.0
PRODID:-//Tinghuset Fjerritslev - ECPv6.2.6//NONSGML v1.0//EN
CALSCALE:GREGORIAN
METHOD:PUBLISH
X-WR-CALNAME:Tinghuset Fjerritslev
X-ORIGINAL-URL:https://www.tinghuset.net
X-WR-CALDESC:Begivenheder for Tinghuset Fjerritslev
REFRESH-INTERVAL;VALUE=DURATION:PT1H
X-Robots-Tag:noindex
X-PUBLISHED-TTL:PT1H
BEGIN:VTIMEZONE
TZID:Europe/Copenhagen
BEGIN:DAYLIGHT
TZOFFSETFROM:+0100
TZOFFSETTO:+0200
TZNAME:CEST
DTSTART:20210328T010000
END:DAYLIGHT
BEGIN:STANDARD
TZOFFSETFROM:+0200
TZOFFSETTO:+0100
TZNAME:CET
DTSTART:20211031T010000
END:STANDARD
END:VTIMEZONE
BEGIN:VEVENT
DTSTART;TZID=Europe/Copenhagen:20210313T080000
DTEND;TZID=Europe/Copenhagen:20210313T170000
DTSTAMP:20260423T174504
CREATED:20210306T121806Z
LAST-MODIFIED:20210306T123608Z
UID:2145-1615622400-1615654800@www.tinghuset.net
SUMMARY:Ghita Nørby og Lars Hannibal
DESCRIPTION:Velkommen til\nKoncert med\nGhita Nørby og Lars Hannibal\nOnsdag 19/9 2018 kl. 19.00\nBestil billet på mail: musikperg@gmail.com eller køb den hos Rene’s Vin og Grønt\nGhita Nørby og Lars Hannibal\n \nI ORD OG TONER \nPeter Bangs Vej 145 – 2000 Frederiksberg DK \nEn aften hvor Danmarks store skuespiller Ghita Nørby\, der netop har fejret sin 83 års fødselsdag\, bla. vil læse nogle af hendes favorit eventyr af H. C. Andersen\, og fortolkje de underfundige og livskloge fabler af La Fontaine\, i Johannes Møllehaves sprudlende oversættelse.\nGuitaristen Lars Hannibal vil skabe laguner til eftertænksomhed med smukke og populære toner fra det klassiske guitarrepertoire. Undervejs samtaler Ghita og Hannibal om nogle af de aktuelle temaer der optager dem indenfor kunst og kultur\, og om Ghitas enestående karriere indenfor film og teater.\nEventyrene\, fablerne\, de små anekdoter og historierne fra et langt liv med teater\, film og TV serier formidles til publikum i en intens og intim atmosfære\, hvor man fornemmer deres årelange venskab.\n \nVi har også et andet program\, der mere har udgangspunkt i Ghitas enestående karriere – hvor vi samtaler ud fra titlen ”Ghita Nørby\,- En Diva i konstant forandring”. Her kommer vi også ind på div. Film og TV roller\,- og meget andet\,- og jeg spiller ind imellem musik som leder fra det ene emne til det andetJ\n \nGhita Nørby- En Diva i konstant forandring\n \nEn af Danmarks største skuespillerinder har stået mere end 60 år på de skrå brædder. Med mere end 100 film og utallige teaterforestillinger er Ghita Nørby én af Danmarks absolut mest populære skuespillerinder. Et kig tilbage i 83-årige Ghita Nørby viser\, at det ikke er småting\, hun har lavet igennem sine seks årtier på scenen. Alt fra hjertelige humoristiske roller på film og teater til med mere alvorlige og dramatiske roller om sygdom og sorg. Når man kigger på Ghita Nørbys imponerende karriere\, er det svært at lade være med at nævne hendes fortolkning af Ingeborg i tv-serien ’Matador’\, der blev produceret fra 1978-1982. Her spiller hun karakteren Ingeborg Skjern\, der er gift med Mads Skjern\, der kommer og laver rag i Korsbæk. Der er en særligt én scene i Matador\, som Ghita Nørby senere er blevet kendt for\, nemlig scenen hvor hun fortæller Mads Skjern\, Jørgen Buckhøj\, at han er ’syg i hovedet’.\nSenere bød Ghita Nørbys karriere også på roller i mere alvorlige film som for eksempel filmen ’Dansen med Regitze’. Her trodser Regitze nyheden om en uhelbredelig sygdom og planlægger en havefest for hele kvarteret. Udover karrieren foran kameraet består Ghita Nørbys karriere også af en lang række teaterforestillinger – det var i virkeligheden her\, det hele startede. Ghita Nørby var elev på Det Kongelige Teater fra 1954-1956\, hvor hun herefter blev ansat på teateret og debuterede som den jyske Johanne i ’Eventyr paa Fodrejsen’ i 1956. Det var denne rolle\, der skabte Ghita Nørbys famøse uskyldige og kække rolle\, som senere hang ved hende ind i de populære danske filmkomedier. Efter en årrække på forskellige københavnske scener og medvirken i film forsøgte hun sig med en noget anderledes rolle\, end hun hidtil havde prøvet. Senere vendte Ghita Nørby tilbage til Det Kongelige Teater\, og her kunne publikum opleve hende i alle mulige slags roller\, for nu var hendes karakter ikke længere bundet til et bestemt rollefag.\nKom og oplev en af Danmarks største skuespillerinder fortælle om sit spændende liv i samtale med sin mangeårige ven\, guitaristen Lars Hannibal\, som indimellem ordene vil spille kendte temaer fra det klassiske guitarrepertoire\, som giver plads til ”eftertanke”.
URL:https://www.tinghuset.net/arrangement/ghita-noerby-og-lars-hannibal/
LOCATION:Hele huset
ATTACH;FMTTYPE=image/jpeg:https://www.tinghuset.net/wp-content/uploads/2018/01/Ghita-Hannibal-ihavenRGB.jpg
END:VEVENT
END:VCALENDAR