BEGIN:VCALENDAR
VERSION:2.0
PRODID:-//Tinghuset Fjerritslev - ECPv6.2.6//NONSGML v1.0//EN
CALSCALE:GREGORIAN
METHOD:PUBLISH
X-WR-CALNAME:Tinghuset Fjerritslev
X-ORIGINAL-URL:https://www.tinghuset.net
X-WR-CALDESC:Begivenheder for Tinghuset Fjerritslev
REFRESH-INTERVAL;VALUE=DURATION:PT1H
X-Robots-Tag:noindex
X-PUBLISHED-TTL:PT1H
BEGIN:VTIMEZONE
TZID:Europe/Copenhagen
BEGIN:DAYLIGHT
TZOFFSETFROM:+0100
TZOFFSETTO:+0200
TZNAME:CEST
DTSTART:20210328T010000
END:DAYLIGHT
BEGIN:STANDARD
TZOFFSETFROM:+0200
TZOFFSETTO:+0100
TZNAME:CET
DTSTART:20211031T010000
END:STANDARD
END:VTIMEZONE
BEGIN:VEVENT
DTSTART;TZID=Europe/Copenhagen:20210812T190000
DTEND;TZID=Europe/Copenhagen:20210812T190000
DTSTAMP:20260423T101356
CREATED:20210629T113035Z
LAST-MODIFIED:20210802T155417Z
UID:2175-1628794800-1628794800@www.tinghuset.net
SUMMARY:Koncert med Thomas Kjellerup
DESCRIPTION:Thomas Kjellerup har været troubadour på fuld tid og for fulde huse i ikke mindre end 30 år nu\, og da han samtidig har rundet de 60 kan han ikke længere betragtes som en ny stemme på den danske musikscene. Siden han skrev sin første sang i 1979 er han stille og roligt vokset som sangskriver og i dag synges hans sange til både bryllup og begravelse – og alt\, hvad der ligger der imellem af hverdage og mærkedage.  \nHan har på tre årtier og via 9 udgivelser skrevet sig ind i rækken af fortællere\, der beskriver menneskelivet på godt og ondt. Mest elsket er han nok for den inderlige ”Hver morgen” der løfter kærligheden mellem voksne mennesker op på hymneplanet\, og ”Skrøbelige hjerte” der hylder den dybe samhørighed så stærkt at den har vundet udbredelse som begravelseshymne. \nGlæd dig til en fantastisk koncertoplevelse når Thomas Kjellerup besøger Tinghuset i Fjerritslev.
URL:https://www.tinghuset.net/arrangement/koncert-med-thomas-kjellerup/
CATEGORIES:Forside,slideshow
ATTACH;FMTTYPE=image/jpeg:https://www.tinghuset.net/wp-content/uploads/2021/06/b477ddef386e56452734c67487b52badcb37a6be61dcddd0676ab83c5153d9dd7eb2c56220f231fe377c29fb856fef56.jpg
END:VEVENT
END:VCALENDAR