BEGIN:VCALENDAR
VERSION:2.0
PRODID:-//Tinghuset Fjerritslev - ECPv6.2.6//NONSGML v1.0//EN
CALSCALE:GREGORIAN
METHOD:PUBLISH
X-ORIGINAL-URL:https://www.tinghuset.net
X-WR-CALDESC:Begivenheder for Tinghuset Fjerritslev
REFRESH-INTERVAL;VALUE=DURATION:PT1H
X-Robots-Tag:noindex
X-PUBLISHED-TTL:PT1H
BEGIN:VTIMEZONE
TZID:Europe/Copenhagen
BEGIN:DAYLIGHT
TZOFFSETFROM:+0100
TZOFFSETTO:+0200
TZNAME:CEST
DTSTART:20210328T010000
END:DAYLIGHT
BEGIN:STANDARD
TZOFFSETFROM:+0200
TZOFFSETTO:+0100
TZNAME:CET
DTSTART:20211031T010000
END:STANDARD
END:VTIMEZONE
BEGIN:VEVENT
DTSTART;TZID=Europe/Copenhagen:20210916T190000
DTEND;TZID=Europe/Copenhagen:20210916T190000
DTSTAMP:20260423T084325
CREATED:20210701T221301Z
LAST-MODIFIED:20210906T172723Z
UID:2186-1631818800-1631818800@www.tinghuset.net
SUMMARY:Strik og Drik OBS UDSOLGT
DESCRIPTION:
URL:https://www.tinghuset.net/arrangement/strik-og-drik/
CATEGORIES:Forside
ATTACH;FMTTYPE=image/jpeg:https://www.tinghuset.net/wp-content/uploads/2021/07/karen-penroz-06ZTGDcAQFs-unsplash-scaled.jpg
END:VEVENT
END:VCALENDAR