BEGIN:VCALENDAR
VERSION:2.0
PRODID:-//Tinghuset Fjerritslev - ECPv6.2.6//NONSGML v1.0//EN
CALSCALE:GREGORIAN
METHOD:PUBLISH
X-ORIGINAL-URL:https://www.tinghuset.net
X-WR-CALDESC:Begivenheder for Tinghuset Fjerritslev
REFRESH-INTERVAL;VALUE=DURATION:PT1H
X-Robots-Tag:noindex
X-PUBLISHED-TTL:PT1H
BEGIN:VTIMEZONE
TZID:Europe/Copenhagen
BEGIN:DAYLIGHT
TZOFFSETFROM:+0100
TZOFFSETTO:+0200
TZNAME:CEST
DTSTART:20210328T010000
END:DAYLIGHT
BEGIN:STANDARD
TZOFFSETFROM:+0200
TZOFFSETTO:+0100
TZNAME:CET
DTSTART:20211031T010000
END:STANDARD
END:VTIMEZONE
BEGIN:VEVENT
DTSTART;TZID=Europe/Copenhagen:20211009T140000
DTEND;TZID=Europe/Copenhagen:20211009T170000
DTSTAMP:20260423T084323
CREATED:20210911T092212Z
LAST-MODIFIED:20210911T092212Z
UID:2298-1633788000-1633798800@www.tinghuset.net
SUMMARY:Møde Grundejerforening Lyngbjergvej
DESCRIPTION:Retssalen
URL:https://www.tinghuset.net/arrangement/moede-grundejerforening-lyngbjergvej/
END:VEVENT
END:VCALENDAR