BEGIN:VCALENDAR
VERSION:2.0
PRODID:-//Tinghuset Fjerritslev - ECPv6.2.6//NONSGML v1.0//EN
CALSCALE:GREGORIAN
METHOD:PUBLISH
X-ORIGINAL-URL:https://www.tinghuset.net
X-WR-CALDESC:Begivenheder for Tinghuset Fjerritslev
REFRESH-INTERVAL;VALUE=DURATION:PT1H
X-Robots-Tag:noindex
X-PUBLISHED-TTL:PT1H
BEGIN:VTIMEZONE
TZID:Europe/Copenhagen
BEGIN:DAYLIGHT
TZOFFSETFROM:+0100
TZOFFSETTO:+0200
TZNAME:CEST
DTSTART:20210328T010000
END:DAYLIGHT
BEGIN:STANDARD
TZOFFSETFROM:+0200
TZOFFSETTO:+0100
TZNAME:CET
DTSTART:20211031T010000
END:STANDARD
END:VTIMEZONE
BEGIN:VEVENT
DTSTART;TZID=Europe/Copenhagen:20211125T193000
DTEND;TZID=Europe/Copenhagen:20211125T193000
DTSTAMP:20260423T054148
CREATED:20210922T185017Z
LAST-MODIFIED:20211121T061829Z
UID:2308-1637868600-1637868600@www.tinghuset.net
SUMMARY:Soul koncert med Jes Holtsø + Morten Wittrock
DESCRIPTION:Velkommen til en fantastisk soul/rock/blues koncert med legendariske Jes Holtsø (Bl.a. kendt som Børge fra Olsen Banden) og en af landes bedste pianister Morten Wittrock. \nBilletpris kun kr. 125. \nKøb billet hos Rene’s Vin og Grønt eller følg linket HER \n \nHOLTSØ & WITTROCK\nDet er originalmusik og stilen er blues\, rock og soul. Med en smittende\nmusikalsk kærlighed\, entusiasme og en gnistrende unik stemme der\nrækker ud over scenekanten\, er Jes Holtsø godt hjulpet på vej af Morten\nWittrock\, som med en unik kreativitet og udadvendthed forstår at give\nselv den mest erfarne lytter nyt stof til øregangen.\nSammen står Jes Holtsø og kapelmester Morten Wittrock for en\ninspirerende\, nærværende og medrivende musikalitet\, som leder\ntankerne hen på den bedste indenfor blues\, rock og soul\, som får\nenhver til at glemme både tid og rum. Det er en konstellation\, der skal\nopleves – og det er musik\, du kan mærke.\nJes Holtsø har for længst skrevet sig ind i de danske filmhjerter. Med\nlangt hår\, midterskilning og kuglerunde briller stod han i rollen som\nBørge altid klar\, når Olsen Bandens spidsfindige planer krævede en\nekstra hånd. På samme vis\, som han få år senere lagde ansigt til\nflyttemand Olsens søn William i Huset på Christianshavn. Nu er han\ntilbage. Charmen er ikke blevet mindre med årene og med et glimt i øjet\nog hjertet på rette sted\, er han klar til at levere et solidt repertoire af\nblues\, rock og soul. Og har flere gange været nomineret til en Danish\nMusic Awards. Og blev i 2012 kåret til Årets Danske blues navn.\nMorten Wittrock. Er i Danmark kendt for sin unikke måde at spille\nHonky-Tonk Piano på. Han har i en årrække indspillet og produceret utal\naf cd’er i Danmark og USA. Og har flere gange været nomineret til en\nDanish Music Awards. Han modtog i 2014 prisen. Amerikanske Old Time\nCountry Music Hall of Fame’s Award: Årets Rockabilly Album i USA.\nMorten Wittrock skrev musikken og var producer på Sangen Big Easy.\nSom FOX brugte til Tv-seren Lethal Weapon.\nJes Holtsø og Morten Wittrock mødte hinanden da Morten af Danmarks\nRadio fik til opgave at akkompagnere Jes under DR’s Talent 2009. Hvor\nJes gik hele vejen til finalen. De 2 har arbejdet sammen siden\, og\nudgiver deres femte album efteråret 2021.
URL:https://www.tinghuset.net/arrangement/koncert-med-jes-holtsoe/
CATEGORIES:Forside,slideshow
ATTACH;FMTTYPE=image/jpeg:https://www.tinghuset.net/wp-content/uploads/2021/09/Holtsoe-Wittrock-Foto2560x1440.jpg
END:VEVENT
END:VCALENDAR