BEGIN:VCALENDAR
VERSION:2.0
PRODID:-//Tinghuset Fjerritslev - ECPv6.2.6//NONSGML v1.0//EN
CALSCALE:GREGORIAN
METHOD:PUBLISH
X-ORIGINAL-URL:https://www.tinghuset.net
X-WR-CALDESC:Begivenheder for Tinghuset Fjerritslev
REFRESH-INTERVAL;VALUE=DURATION:PT1H
X-Robots-Tag:noindex
X-PUBLISHED-TTL:PT1H
BEGIN:VTIMEZONE
TZID:Europe/Copenhagen
BEGIN:DAYLIGHT
TZOFFSETFROM:+0100
TZOFFSETTO:+0200
TZNAME:CEST
DTSTART:20210328T010000
END:DAYLIGHT
BEGIN:STANDARD
TZOFFSETFROM:+0200
TZOFFSETTO:+0100
TZNAME:CET
DTSTART:20211031T010000
END:STANDARD
END:VTIMEZONE
BEGIN:VEVENT
DTSTART;TZID=Europe/Copenhagen:20211214T083000
DTEND;TZID=Europe/Copenhagen:20211214T120000
DTSTAMP:20260423T040940
CREATED:20210921T180645Z
LAST-MODIFIED:20210921T180645Z
UID:2306-1639470600-1639483200@www.tinghuset.net
SUMMARY:Formiddagscafe
DESCRIPTION:Formiddagscafe fællessang Baptistkirken Brovst\nEvt. tilmelding Bodil Sørensen tlf. 51 95 15 81 bodil@dbs.dk \nRetssalen \n 
URL:https://www.tinghuset.net/arrangement/formiddagscafe/
END:VEVENT
BEGIN:VEVENT
DTSTART;TZID=Europe/Copenhagen:20211214T160000
DTEND;TZID=Europe/Copenhagen:20211214T210000
DTSTAMP:20260423T040940
CREATED:20211206T165601Z
LAST-MODIFIED:20211206T165601Z
UID:2382-1639497600-1639515600@www.tinghuset.net
SUMMARY:Julearrangement med Tupperware
DESCRIPTION:Tilmelding og nærmere oplysning til Susanne Falk tlf. 23831895 \nSTUEN
URL:https://www.tinghuset.net/arrangement/julearrangement-med-tupperware/
END:VEVENT
END:VCALENDAR