BEGIN:VCALENDAR
VERSION:2.0
PRODID:-//Tinghuset Fjerritslev - ECPv6.2.6//NONSGML v1.0//EN
CALSCALE:GREGORIAN
METHOD:PUBLISH
X-WR-CALNAME:Tinghuset Fjerritslev
X-ORIGINAL-URL:https://www.tinghuset.net
X-WR-CALDESC:Begivenheder for Tinghuset Fjerritslev
REFRESH-INTERVAL;VALUE=DURATION:PT1H
X-Robots-Tag:noindex
X-PUBLISHED-TTL:PT1H
BEGIN:VTIMEZONE
TZID:Europe/Copenhagen
BEGIN:DAYLIGHT
TZOFFSETFROM:+0100
TZOFFSETTO:+0200
TZNAME:CEST
DTSTART:20220327T010000
END:DAYLIGHT
BEGIN:STANDARD
TZOFFSETFROM:+0200
TZOFFSETTO:+0100
TZNAME:CET
DTSTART:20221030T010000
END:STANDARD
END:VTIMEZONE
BEGIN:VEVENT
DTSTART;TZID=Europe/Copenhagen:20220211T190000
DTEND;TZID=Europe/Copenhagen:20220211T190000
DTSTAMP:20260423T005257
CREATED:20220205T074937Z
LAST-MODIFIED:20220205T075115Z
UID:2421-1644606000-1644606000@www.tinghuset.net
SUMMARY:Foredrag med jægersoldat Helge Meyer "Guds Rambo"
DESCRIPTION:FOREDRAG\nI TINGHUSET\nTORSDAG DEN 11. FEBRUAR KL. 19.00\nHelge Meyer\nManden der hjalp krigens børn\n\nGUDS RAMBO\nMød den tidligere jægersoldat\nHELGE MEYER\nder kørte nødhjælp til Bosnien under Balkankrigen i 1990’erne med sin bibel som eneste våben. \n\nBilletter kan købes hos:\nRenés Vin & Grønt\,\nØstergade 2b\, Fjerritslev\,\ntlf. 98 21 33 38 eller bestilles\nvia Tinghuset hjemmeside \nReserver evt. billet ved henvendelse til Palle L. Nielsen pln@fri-fugl.com Tlf 22 96 19 70
URL:https://www.tinghuset.net/arrangement/foredrag-med-jaegersoldat-helge-meyer-guds-rambo/
CATEGORIES:Forside,slideshow
ATTACH;FMTTYPE=image/jpeg:https://www.tinghuset.net/wp-content/uploads/2022/02/Meye-headr.jpg
END:VEVENT
END:VCALENDAR