BEGIN:VCALENDAR
VERSION:2.0
PRODID:-//Tinghuset Fjerritslev - ECPv6.2.6//NONSGML v1.0//EN
CALSCALE:GREGORIAN
METHOD:PUBLISH
X-WR-CALNAME:Tinghuset Fjerritslev
X-ORIGINAL-URL:https://www.tinghuset.net
X-WR-CALDESC:Begivenheder for Tinghuset Fjerritslev
REFRESH-INTERVAL;VALUE=DURATION:PT1H
X-Robots-Tag:noindex
X-PUBLISHED-TTL:PT1H
BEGIN:VTIMEZONE
TZID:Europe/Copenhagen
BEGIN:DAYLIGHT
TZOFFSETFROM:+0100
TZOFFSETTO:+0200
TZNAME:CEST
DTSTART:20220327T010000
END:DAYLIGHT
BEGIN:STANDARD
TZOFFSETFROM:+0200
TZOFFSETTO:+0100
TZNAME:CET
DTSTART:20221030T010000
END:STANDARD
END:VTIMEZONE
BEGIN:VEVENT
DTSTART;TZID=Europe/Copenhagen:20220224T180000
DTEND;TZID=Europe/Copenhagen:20220224T180000
DTSTAMP:20260423T005251
CREATED:20211212T073226Z
LAST-MODIFIED:20211212T073226Z
UID:2385-1645725600-1645725600@www.tinghuset.net
SUMMARY:Generalforsamling Kjettrup Jagtforening
DESCRIPTION:Retssalen og køkkenet \nCo. Henrik Thomsen
URL:https://www.tinghuset.net/arrangement/generalforsamling-kjettrup-jagtforening/
END:VEVENT
END:VCALENDAR