BEGIN:VCALENDAR
VERSION:2.0
PRODID:-//Tinghuset Fjerritslev - ECPv6.2.6//NONSGML v1.0//EN
CALSCALE:GREGORIAN
METHOD:PUBLISH
X-ORIGINAL-URL:https://www.tinghuset.net
X-WR-CALDESC:Begivenheder for Tinghuset Fjerritslev
REFRESH-INTERVAL;VALUE=DURATION:PT1H
X-Robots-Tag:noindex
X-PUBLISHED-TTL:PT1H
BEGIN:VTIMEZONE
TZID:Europe/Copenhagen
BEGIN:DAYLIGHT
TZOFFSETFROM:+0100
TZOFFSETTO:+0200
TZNAME:CEST
DTSTART:20220327T010000
END:DAYLIGHT
BEGIN:STANDARD
TZOFFSETFROM:+0200
TZOFFSETTO:+0100
TZNAME:CET
DTSTART:20221030T010000
END:STANDARD
END:VTIMEZONE
BEGIN:VEVENT
DTSTART;TZID=Europe/Copenhagen:20220426T170000
DTEND;TZID=Europe/Copenhagen:20220426T220000
DTSTAMP:20260422T203834
CREATED:20211202T193420Z
LAST-MODIFIED:20211202T193748Z
UID:2379-1650992400-1651010400@www.tinghuset.net
SUMMARY:Lokalhistorisk Samråd Generalforsamling
DESCRIPTION:RETSSALEN\nLokalhistorisk Samråd Generalforsamling i Tinghuset tirsdag 26. april 2022 kl. 19.00\nCo. Ulla Tjell
URL:https://www.tinghuset.net/arrangement/lokalhistorisk-samraad-generalforsamling/
END:VEVENT
END:VCALENDAR