BEGIN:VCALENDAR
VERSION:2.0
PRODID:-//Tinghuset Fjerritslev - ECPv6.2.6//NONSGML v1.0//EN
CALSCALE:GREGORIAN
METHOD:PUBLISH
X-WR-CALNAME:Tinghuset Fjerritslev
X-ORIGINAL-URL:https://www.tinghuset.net
X-WR-CALDESC:Begivenheder for Tinghuset Fjerritslev
REFRESH-INTERVAL;VALUE=DURATION:PT1H
X-Robots-Tag:noindex
X-PUBLISHED-TTL:PT1H
BEGIN:VTIMEZONE
TZID:UTC
BEGIN:STANDARD
TZOFFSETFROM:+0000
TZOFFSETTO:+0000
TZNAME:UTC
DTSTART:20220101T000000
END:STANDARD
END:VTIMEZONE
BEGIN:VEVENT
DTSTART;TZID=UTC:20220630T180000
DTEND;TZID=UTC:20220630T230000
DTSTAMP:20260422T175432
CREATED:20220618T151706Z
LAST-MODIFIED:20220618T151706Z
UID:2574-1656612000-1656630000@www.tinghuset.net
SUMMARY:Italiensk vin- og gourmetaften
DESCRIPTION:
URL:https://www.tinghuset.net/arrangement/italiensk-vin-og-gourmetaften/
END:VEVENT
END:VCALENDAR