BEGIN:VCALENDAR
VERSION:2.0
PRODID:-//Tinghuset Fjerritslev - ECPv6.2.6//NONSGML v1.0//EN
CALSCALE:GREGORIAN
METHOD:PUBLISH
X-ORIGINAL-URL:https://www.tinghuset.net
X-WR-CALDESC:Begivenheder for Tinghuset Fjerritslev
REFRESH-INTERVAL;VALUE=DURATION:PT1H
X-Robots-Tag:noindex
X-PUBLISHED-TTL:PT1H
BEGIN:VTIMEZONE
TZID:UTC
BEGIN:STANDARD
TZOFFSETFROM:+0000
TZOFFSETTO:+0000
TZNAME:UTC
DTSTART:20220101T000000
END:STANDARD
END:VTIMEZONE
BEGIN:VEVENT
DTSTART;TZID=UTC:20220712T200000
DTEND;TZID=UTC:20220712T210000
DTSTAMP:20260422T175756
CREATED:20220601T180720Z
LAST-MODIFIED:20220601T181415Z
UID:2556-1657656000-1657659600@www.tinghuset.net
SUMMARY:Sange ved havet
DESCRIPTION:Fællessang i solnedgangen uden for Havbådehuset i Slettestrand \nHver tirsdag i juli måned kl. 20.00 – 21.00 \nAlle er velkomne – gratis adgang. \nTag gerne klapstol\, tæppe og paraply med. \nEfter fællessangen serveres kaffe og kage til 25 kr. \nAftenens akkompagnatør: Anders Moltsen \nhttp://hanherred.dk/sangevedhavet/
URL:https://www.tinghuset.net/arrangement/sange-ved-havet-2/
CATEGORIES:Forside,slideshow
END:VEVENT
END:VCALENDAR