BEGIN:VCALENDAR
VERSION:2.0
PRODID:-//Tinghuset Fjerritslev - ECPv6.2.6//NONSGML v1.0//EN
CALSCALE:GREGORIAN
METHOD:PUBLISH
X-ORIGINAL-URL:https://www.tinghuset.net
X-WR-CALDESC:Begivenheder for Tinghuset Fjerritslev
REFRESH-INTERVAL;VALUE=DURATION:PT1H
X-Robots-Tag:noindex
X-PUBLISHED-TTL:PT1H
BEGIN:VTIMEZONE
TZID:UTC
BEGIN:STANDARD
TZOFFSETFROM:+0000
TZOFFSETTO:+0000
TZNAME:UTC
DTSTART:20220101T000000
END:STANDARD
END:VTIMEZONE
BEGIN:VEVENT
DTSTART;TZID=UTC:20220906T190000
DTEND;TZID=UTC:20220906T210000
DTSTAMP:20260422T053250
CREATED:20220816T193024Z
LAST-MODIFIED:20220906T121324Z
UID:2602-1662490800-1662498000@www.tinghuset.net
SUMMARY:Sangaften
DESCRIPTION:Søren Bundgaard er aftenens oplægsholder og pianist\, da Niels Kraghede desværre er forhindret. \nVi skal i hvert fald synge nogle af sensommerens og efterårets sange. Følg med her for opdatering når programmet bliver endelig fastlagt. \nVi glæder os til at se jer. \nMvh. Tinghuset \nProgrammet: \nFællessang på Tinghuset_september2022
URL:https://www.tinghuset.net/arrangement/sangaften-2/
CATEGORIES:slideshow
ATTACH;FMTTYPE=image/jpeg:https://www.tinghuset.net/wp-content/uploads/2021/06/sangaften.jpg
END:VEVENT
END:VCALENDAR