BEGIN:VCALENDAR
VERSION:2.0
PRODID:-//Tinghuset Fjerritslev - ECPv6.2.6//NONSGML v1.0//EN
CALSCALE:GREGORIAN
METHOD:PUBLISH
X-ORIGINAL-URL:https://www.tinghuset.net
X-WR-CALDESC:Begivenheder for Tinghuset Fjerritslev
REFRESH-INTERVAL;VALUE=DURATION:PT1H
X-Robots-Tag:noindex
X-PUBLISHED-TTL:PT1H
BEGIN:VTIMEZONE
TZID:UTC
BEGIN:STANDARD
TZOFFSETFROM:+0000
TZOFFSETTO:+0000
TZNAME:UTC
DTSTART:20220101T000000
END:STANDARD
END:VTIMEZONE
BEGIN:VEVENT
DTSTART;TZID=UTC:20220911T080000
DTEND;TZID=UTC:20220911T170000
DTSTAMP:20260421T205121
CREATED:20220522T204620Z
LAST-MODIFIED:20220522T204620Z
UID:2551-1662883200-1662915600@www.tinghuset.net
SUMMARY:Scleroseforeningens indsamling
DESCRIPTION:
URL:https://www.tinghuset.net/arrangement/scleroseforeningens-indsamling/
END:VEVENT
END:VCALENDAR