BEGIN:VCALENDAR
VERSION:2.0
PRODID:-//Tinghuset Fjerritslev - ECPv6.2.6//NONSGML v1.0//EN
CALSCALE:GREGORIAN
METHOD:PUBLISH
X-ORIGINAL-URL:https://www.tinghuset.net
X-WR-CALDESC:Begivenheder for Tinghuset Fjerritslev
REFRESH-INTERVAL;VALUE=DURATION:PT1H
X-Robots-Tag:noindex
X-PUBLISHED-TTL:PT1H
BEGIN:VTIMEZONE
TZID:Europe/Copenhagen
BEGIN:DAYLIGHT
TZOFFSETFROM:+0100
TZOFFSETTO:+0200
TZNAME:CEST
DTSTART:20210328T010000
END:DAYLIGHT
BEGIN:STANDARD
TZOFFSETFROM:+0200
TZOFFSETTO:+0100
TZNAME:CET
DTSTART:20211031T010000
END:STANDARD
END:VTIMEZONE
BEGIN:VEVENT
DTSTART;TZID=Europe/Copenhagen:20210913T080000
DTEND;TZID=Europe/Copenhagen:20210913T110000
DTSTAMP:20260423T071718
CREATED:20210911T091952Z
LAST-MODIFIED:20210911T092459Z
UID:2296-1631520000-1631530800@www.tinghuset.net
SUMMARY:Kunsten i Han Herred
DESCRIPTION:Styregruppe møde Kunsten i Han Herred\nStuen
URL:https://www.tinghuset.net/arrangement/2296/
END:VEVENT
BEGIN:VEVENT
DTSTART;TZID=Europe/Copenhagen:20210914T190000
DTEND;TZID=Europe/Copenhagen:20210914T190000
DTSTAMP:20260423T071718
CREATED:20210629T120340Z
LAST-MODIFIED:20210818T190056Z
UID:2178-1631646000-1631646000@www.tinghuset.net
SUMMARY:Sangaftener genoptages
DESCRIPTION:Velkommen til sangaften.\nEndelig kan vi starte op med de populære sangaftner under ledelse af Niels Kraghede med skiftende musikanter.\nAlle er velkommen. Gratis adgang\, dog betales kr. 25 for kaffe og kage.
URL:https://www.tinghuset.net/arrangement/sangaftener-genoptages/
LOCATION:Retssalen
CATEGORIES:slideshow
ATTACH;FMTTYPE=image/jpeg:https://www.tinghuset.net/wp-content/uploads/2021/06/sangaften.jpg
END:VEVENT
BEGIN:VEVENT
DTSTART;TZID=Europe/Copenhagen:20210916T190000
DTEND;TZID=Europe/Copenhagen:20210916T190000
DTSTAMP:20260423T071718
CREATED:20210701T221301Z
LAST-MODIFIED:20210906T172723Z
UID:2186-1631818800-1631818800@www.tinghuset.net
SUMMARY:Strik og Drik OBS UDSOLGT
DESCRIPTION:
URL:https://www.tinghuset.net/arrangement/strik-og-drik/
CATEGORIES:Forside
ATTACH;FMTTYPE=image/jpeg:https://www.tinghuset.net/wp-content/uploads/2021/07/karen-penroz-06ZTGDcAQFs-unsplash-scaled.jpg
END:VEVENT
BEGIN:VEVENT
DTSTART;TZID=Europe/Copenhagen:20210925T133000
DTEND;TZID=Europe/Copenhagen:20210925T133000
DTSTAMP:20260423T071718
CREATED:20210701T221418Z
LAST-MODIFIED:20210915T172419Z
UID:2189-1632576600-1632576600@www.tinghuset.net
SUMMARY:Kammermusik med musikere fra Aalborg Symfoniorkester
DESCRIPTION:Kammermusik i Tinghuset\nVelkommen til en dejlig “lørdags-matiné” med fire dygtige musikere fra Aalborg Symfoniorkester. \n\nVelkommen til en stemningsfuld eftermiddag med iørefaldende musik af bl.aW.A. Mozart og Benjamin Britten. Kvartetten består af Judith Blauw obo\, Yana Deshkova violin\, Dunia Ershovabratch og Matthias Hehrmann cello. Alle er musikere i Aalborg Symfoniorkester.Programmet indeholder bl.a. Mozart: Obo Quartet i F-dur KV370 (15′). Britten: Phantasy opus 2 (14′) \nBilletter kan købes hos Rene’s Vin og Grønt eller bestilles ved henvendelse til Per G 40 41 58 64 musikperg@gmail.com \nBilletpris: Medlem kun kr. 120\, ikke medlem kr. 150.
URL:https://www.tinghuset.net/arrangement/kammermusik-med-musiker-fra-aalborg-symfoniorkester/
CATEGORIES:Forside,slideshow
ATTACH;FMTTYPE=image/jpeg:https://www.tinghuset.net/wp-content/uploads/2021/07/Klarinetgrp2000px-bw.jpg
END:VEVENT
BEGIN:VEVENT
DTSTART;TZID=Europe/Copenhagen:20210926T140000
DTEND;TZID=Europe/Copenhagen:20210926T170000
DTSTAMP:20260423T071718
CREATED:20210918T063035Z
LAST-MODIFIED:20210918T063035Z
UID:2303-1632664800-1632675600@www.tinghuset.net
SUMMARY:Pop og Pigtråd i 9690 møde
DESCRIPTION:Stuen
URL:https://www.tinghuset.net/arrangement/pop-og-pigtraad-i-9690-moede/
END:VEVENT
END:VCALENDAR