BEGIN:VCALENDAR
VERSION:2.0
PRODID:-//Tinghuset Fjerritslev - ECPv6.2.6//NONSGML v1.0//EN
CALSCALE:GREGORIAN
METHOD:PUBLISH
X-ORIGINAL-URL:https://www.tinghuset.net
X-WR-CALDESC:Begivenheder for Tinghuset Fjerritslev
REFRESH-INTERVAL;VALUE=DURATION:PT1H
X-Robots-Tag:noindex
X-PUBLISHED-TTL:PT1H
BEGIN:VTIMEZONE
TZID:Europe/Copenhagen
BEGIN:DAYLIGHT
TZOFFSETFROM:+0100
TZOFFSETTO:+0200
TZNAME:CEST
DTSTART:20210328T010000
END:DAYLIGHT
BEGIN:STANDARD
TZOFFSETFROM:+0200
TZOFFSETTO:+0100
TZNAME:CET
DTSTART:20211031T010000
END:STANDARD
END:VTIMEZONE
BEGIN:VEVENT
DTSTART;TZID=Europe/Copenhagen:20211003T090000
DTEND;TZID=Europe/Copenhagen:20211003T160000
DTSTAMP:20260423T054014
CREATED:20210802T161205Z
LAST-MODIFIED:20210802T161205Z
UID:2246-1633251600-1633276800@www.tinghuset.net
SUMMARY:RødeKors indsamlings central
DESCRIPTION:
URL:https://www.tinghuset.net/arrangement/roedekors-indsamlings-central/
LOCATION:Retssalen
ATTACH;FMTTYPE=image/jpeg:https://www.tinghuset.net/wp-content/uploads/2021/08/indsamlingsboesse2.jpg
END:VEVENT
BEGIN:VEVENT
DTSTART;TZID=Europe/Copenhagen:20211005T190000
DTEND;TZID=Europe/Copenhagen:20211005T190000
DTSTAMP:20260423T054014
CREATED:20210802T161309Z
LAST-MODIFIED:20210802T161309Z
UID:2251-1633460400-1633460400@www.tinghuset.net
SUMMARY:Sangaften
DESCRIPTION:Gratis adgang! (Kaffe og brød kr 20)
URL:https://www.tinghuset.net/arrangement/sangaften/
LOCATION:Retssalen
ATTACH;FMTTYPE=image/jpeg:https://www.tinghuset.net/wp-content/uploads/2021/06/sangaften.jpg
END:VEVENT
BEGIN:VEVENT
DTSTART;TZID=Europe/Copenhagen:20211006T190000
DTEND;TZID=Europe/Copenhagen:20211006T190000
DTSTAMP:20260423T054014
CREATED:20210802T154843Z
LAST-MODIFIED:20211001T042912Z
UID:2240-1633546800-1633546800@www.tinghuset.net
SUMMARY:Koncert med Per Iversen Christian og Cecilie Wennerlin
DESCRIPTION:MANGE ØREHÆNGERE VED KONCERT I TINGHUSET.\nDer bliver for publikum tale om genkendelsens glæde ved mange af de toner\, som vil lyde ved koncerten i Tinghuset i Fjerritslev på onsdag d. 6. oktober kl 19. På programmet er nemlig skønne klassikere fra såvel filmmusikkens som musicalens og operettens verden – numre\, som er knyttet til nogle af de allerstørste forestillinger og film\, eller som er blevet udødeliggjorte af store sangere gennem tiden. Bag fremførelsen står de tre lokale Cecilie Vestergaard Wennerlin (violin)\, Christian Vestergaard Wennerlin (klaver) og Per Iversen (sang). De byder på et varieret repertoire\, som spænder over musical- og filmtoner fra det meste af det 20. århundrede til sange af både ABBA\, Thomas Winding og Lis Sørensen samt Robbie Williams. Der bliver for publikum ligeledes lejlighed til at stifte bekendtskab med musik\, skrevet af både Cecilie og Christian Vestergaard Wennerlin\, skrevet til danske digte.\n\n\nBilletter kan købes ved Renés Vin og Grønttorv eller ved koncerten.\n\nKøb billet hos Rene’s Vin og Grønt\nKr 120\,- medlem. Kr. 140\,- ikke medlem.
URL:https://www.tinghuset.net/arrangement/koncert-med-per-iversen-christian-og-cecilie%e2%80%afwennerlin/
CATEGORIES:Forside,slideshow
ATTACH;FMTTYPE=image/jpeg:https://www.tinghuset.net/wp-content/uploads/2021/08/Pivers.jpg
END:VEVENT
BEGIN:VEVENT
DTSTART;TZID=Europe/Copenhagen:20211009T140000
DTEND;TZID=Europe/Copenhagen:20211009T170000
DTSTAMP:20260423T054014
CREATED:20210911T092212Z
LAST-MODIFIED:20210911T092212Z
UID:2298-1633788000-1633798800@www.tinghuset.net
SUMMARY:Møde Grundejerforening Lyngbjergvej
DESCRIPTION:Retssalen
URL:https://www.tinghuset.net/arrangement/moede-grundejerforening-lyngbjergvej/
END:VEVENT
BEGIN:VEVENT
DTSTART;TZID=Europe/Copenhagen:20211012T180000
DTEND;TZID=Europe/Copenhagen:20211012T220000
DTSTAMP:20260423T054014
CREATED:20210906T182429Z
LAST-MODIFIED:20210906T182637Z
UID:2282-1634061600-1634076000@www.tinghuset.net
SUMMARY:Anja Bech Reich
DESCRIPTION:Foredrag i Retssalen
URL:https://www.tinghuset.net/arrangement/anja-bech-reich/
END:VEVENT
BEGIN:VEVENT
DTSTART;TZID=Europe/Copenhagen:20211013T100000
DTEND;TZID=Europe/Copenhagen:20211013T180000
DTSTAMP:20260423T054014
CREATED:20210906T182756Z
LAST-MODIFIED:20210906T182756Z
UID:2284-1634119200-1634148000@www.tinghuset.net
SUMMARY:Anja Bech Reich møder
DESCRIPTION:Mødelokale ovenpå.
URL:https://www.tinghuset.net/arrangement/anja-bech-reich-moeder/
END:VEVENT
BEGIN:VEVENT
DTSTART;TZID=Europe/Copenhagen:20211027T090000
DTEND;TZID=Europe/Copenhagen:20211027T120000
DTSTAMP:20260423T054014
CREATED:20211015T114143Z
LAST-MODIFIED:20211015T114143Z
UID:2332-1635325200-1635336000@www.tinghuset.net
SUMMARY:Møde Kunsten i Han Herred
DESCRIPTION:Stuen
URL:https://www.tinghuset.net/arrangement/moede-kunsten-i-han-herred/
END:VEVENT
END:VCALENDAR