BEGIN:VCALENDAR
VERSION:2.0
PRODID:-//Tinghuset Fjerritslev - ECPv6.2.6//NONSGML v1.0//EN
CALSCALE:GREGORIAN
METHOD:PUBLISH
X-ORIGINAL-URL:https://www.tinghuset.net
X-WR-CALDESC:Begivenheder for Tinghuset Fjerritslev
REFRESH-INTERVAL;VALUE=DURATION:PT1H
X-Robots-Tag:noindex
X-PUBLISHED-TTL:PT1H
BEGIN:VTIMEZONE
TZID:Europe/Copenhagen
BEGIN:DAYLIGHT
TZOFFSETFROM:+0100
TZOFFSETTO:+0200
TZNAME:CEST
DTSTART:20220327T010000
END:DAYLIGHT
BEGIN:STANDARD
TZOFFSETFROM:+0200
TZOFFSETTO:+0100
TZNAME:CET
DTSTART:20221030T010000
END:STANDARD
TZID:UTC
BEGIN:STANDARD
TZOFFSETFROM:+0000
TZOFFSETTO:+0000
TZNAME:UTC
DTSTART:20220101T000000
END:STANDARD
END:VTIMEZONE
BEGIN:VEVENT
DTSTART;TZID=Europe/Copenhagen:20220205T110000
DTEND;TZID=Europe/Copenhagen:20220205T160000
DTSTAMP:20260422T232820
CREATED:20211119T165153Z
LAST-MODIFIED:20211119T165437Z
UID:2365-1644058800-1644076800@www.tinghuset.net
SUMMARY:Åben kunstcafé\, Kunsten i Han Herred
DESCRIPTION:Kunsten i Han Herred holder åben kunstcafe ☕️lørdag den 5. februar\nkl. ca 11.00 til 16.00 i Tinghuset – kom og se alle herlighederne!
URL:https://www.tinghuset.net/arrangement/aaben-kunst-cafe-kunsten-i-han-herred/
CATEGORIES:Forside,slideshow
ATTACH;FMTTYPE=image/jpeg:https://www.tinghuset.net/wp-content/uploads/2021/11/KunstiHH.jpg
END:VEVENT
BEGIN:VEVENT
DTSTART;TZID=Europe/Copenhagen:20220209T190000
DTEND;TZID=Europe/Copenhagen:20220209T190000
DTSTAMP:20260422T232820
CREATED:20211228T123509Z
LAST-MODIFIED:20211228T123509Z
UID:2401-1644433200-1644433200@www.tinghuset.net
SUMMARY:Generalforsamling Hjortdal-Fjerritslev havekreds
DESCRIPTION:Stuen\nGeneralforsamling i Hjortdal-Fjerritslev Havekreds onsdag den 9. februar 2022 kl. 19.00 – 22.00.\nCo.\nKirsten Nygård\, tlf. 21785181
URL:https://www.tinghuset.net/arrangement/generalforsamling-hjortdal-fjerritslev-havekreds/
END:VEVENT
BEGIN:VEVENT
DTSTART;TZID=Europe/Copenhagen:20220211T190000
DTEND;TZID=Europe/Copenhagen:20220211T190000
DTSTAMP:20260422T232820
CREATED:20220205T074937Z
LAST-MODIFIED:20220205T075115Z
UID:2421-1644606000-1644606000@www.tinghuset.net
SUMMARY:Foredrag med jægersoldat Helge Meyer "Guds Rambo"
DESCRIPTION:FOREDRAG\nI TINGHUSET\nTORSDAG DEN 11. FEBRUAR KL. 19.00\nHelge Meyer\nManden der hjalp krigens børn\n\nGUDS RAMBO\nMød den tidligere jægersoldat\nHELGE MEYER\nder kørte nødhjælp til Bosnien under Balkankrigen i 1990’erne med sin bibel som eneste våben. \n\nBilletter kan købes hos:\nRenés Vin & Grønt\,\nØstergade 2b\, Fjerritslev\,\ntlf. 98 21 33 38 eller bestilles\nvia Tinghuset hjemmeside \nReserver evt. billet ved henvendelse til Palle L. Nielsen pln@fri-fugl.com Tlf 22 96 19 70
URL:https://www.tinghuset.net/arrangement/foredrag-med-jaegersoldat-helge-meyer-guds-rambo/
CATEGORIES:Forside,slideshow
ATTACH;FMTTYPE=image/jpeg:https://www.tinghuset.net/wp-content/uploads/2022/02/Meye-headr.jpg
END:VEVENT
BEGIN:VEVENT
DTSTART;TZID=Europe/Copenhagen:20220218T093000
DTEND;TZID=Europe/Copenhagen:20220218T180000
DTSTAMP:20260422T232820
CREATED:20220117T201159Z
LAST-MODIFIED:20220117T201641Z
UID:2410-1645176600-1645207200@www.tinghuset.net
SUMMARY:Anja Reich
DESCRIPTION:Møder\nMødelokale 1. sal
URL:https://www.tinghuset.net/arrangement/anja-reich/
END:VEVENT
BEGIN:VEVENT
DTSTART;TZID=Europe/Copenhagen:20220221T090000
DTEND;TZID=Europe/Copenhagen:20220221T110000
DTSTAMP:20260422T232820
CREATED:20220209T193401Z
LAST-MODIFIED:20220209T193401Z
UID:2442-1645434000-1645441200@www.tinghuset.net
SUMMARY:Kunsten i Han Herred møde
DESCRIPTION:Kunsten i Hanherred holder møde mandag den 21. februar kl. 9-11.00 \n  \nStuen
URL:https://www.tinghuset.net/arrangement/kunsten-i-han-herred-moede/
END:VEVENT
BEGIN:VEVENT
DTSTART;TZID=UTC:20220222T190000
DTEND;TZID=UTC:20220222T190000
DTSTAMP:20260422T232820
CREATED:20220217T193217Z
LAST-MODIFIED:20220217T193217Z
UID:2449-1645556400-1645556400@www.tinghuset.net
SUMMARY:Møde ang Fjerritslev 125 års jubilæum
DESCRIPTION:Stuen
URL:https://www.tinghuset.net/arrangement/moede-ang-fjerritslev-125-aars-jubilaeum/
END:VEVENT
BEGIN:VEVENT
DTSTART;TZID=Europe/Copenhagen:20220224T180000
DTEND;TZID=Europe/Copenhagen:20220224T180000
DTSTAMP:20260422T232820
CREATED:20211212T073226Z
LAST-MODIFIED:20211212T073226Z
UID:2385-1645725600-1645725600@www.tinghuset.net
SUMMARY:Generalforsamling Kjettrup Jagtforening
DESCRIPTION:Retssalen og køkkenet \nCo. Henrik Thomsen
URL:https://www.tinghuset.net/arrangement/generalforsamling-kjettrup-jagtforening/
END:VEVENT
END:VCALENDAR