BEGIN:VCALENDAR
VERSION:2.0
PRODID:-//Tinghuset Fjerritslev - ECPv6.2.6//NONSGML v1.0//EN
CALSCALE:GREGORIAN
METHOD:PUBLISH
X-ORIGINAL-URL:https://www.tinghuset.net
X-WR-CALDESC:Begivenheder for Tinghuset Fjerritslev
REFRESH-INTERVAL;VALUE=DURATION:PT1H
X-Robots-Tag:noindex
X-PUBLISHED-TTL:PT1H
BEGIN:VTIMEZONE
TZID:Europe/Copenhagen
BEGIN:DAYLIGHT
TZOFFSETFROM:+0100
TZOFFSETTO:+0200
TZNAME:CEST
DTSTART:20220327T010000
END:DAYLIGHT
BEGIN:STANDARD
TZOFFSETFROM:+0200
TZOFFSETTO:+0100
TZNAME:CET
DTSTART:20221030T010000
END:STANDARD
TZID:UTC
BEGIN:STANDARD
TZOFFSETFROM:+0000
TZOFFSETTO:+0000
TZNAME:UTC
DTSTART:20220101T000000
END:STANDARD
END:VTIMEZONE
BEGIN:VEVENT
DTSTART;TZID=Europe/Copenhagen:20220301T190000
DTEND;TZID=Europe/Copenhagen:20220301T190000
DTSTAMP:20260422T215732
CREATED:20220207T184044Z
LAST-MODIFIED:20220207T184044Z
UID:2429-1646161200-1646161200@www.tinghuset.net
SUMMARY:Sangaften Gratis adgang
DESCRIPTION:Velkommen til hyggelig syng sammen under ledelse af Niels Kraghede med musikalsk ledsagelse af forskellige lokale musikere.\nVi synger sange fra den nye højskolesangbog og Han Herred sangbogen.\nGratis adgang. (Kaffe og brød kr 25)
URL:https://www.tinghuset.net/arrangement/sangaften-gratis-adgang-2/
CATEGORIES:Forside,slideshow
ATTACH;FMTTYPE=image/jpeg:https://www.tinghuset.net/wp-content/uploads/2021/06/sangaften.jpg
END:VEVENT
BEGIN:VEVENT
DTSTART;TZID=Europe/Copenhagen:20220307T190000
DTEND;TZID=Europe/Copenhagen:20220307T190000
DTSTAMP:20260422T215732
CREATED:20220207T184412Z
LAST-MODIFIED:20220208T211237Z
UID:2431-1646679600-1646679600@www.tinghuset.net
SUMMARY:Indkaldelse til årsmøde Tinghuset
DESCRIPTION:Hermed indkaldes til årsmøde \nVelkommen til tinghusets årsmøde. \nÅrsmøde  \nKulturforeningen Tinghuset  \nMandag 7/3 2022 kl. 19:00 i retssalen.  \n  \nDagsorden:  \n1) Valg af dirigent.\n2) Formandens beretning.\n3) Godkendelse af årsrapport.\n4) Fremlæggelse af budget\n5) Fastsættelse af kontingent.\n6) Indkomne forslag.\n7) Valg af bestyrelse.\n8) Valg af 2 suppleanter\n9) Valg af revisor.\n10) Evt.  \nPå valg: Jette Sørensen\, Palle Nielsen\, Ulla Mølbæk\, Per Gregersen.  \nAlle medlemmer er velkomne!\nKun medlemmer som har indbetalt kontingent rettidigt (april 2019)\, har stemmeret.  \nSe vedtægter HER 
URL:https://www.tinghuset.net/arrangement/indkaldelse-til-aarsmoede-tinghuset/
CATEGORIES:Forside,slideshow
ATTACH;FMTTYPE=image/jpeg:https://www.tinghuset.net/wp-content/uploads/2021/03/forside-billede3-scaled.jpg
END:VEVENT
BEGIN:VEVENT
DTSTART;TZID=UTC:20220308T190000
DTEND;TZID=UTC:20220308T190000
DTSTAMP:20260422T215732
CREATED:20220226T070912Z
LAST-MODIFIED:20220226T070912Z
UID:2461-1646766000-1646766000@www.tinghuset.net
SUMMARY:Møde ang Fjerritslev by jubilæum
DESCRIPTION:Stuen
URL:https://www.tinghuset.net/arrangement/moede-ang-fjerritslev-by-jubilaeum/
END:VEVENT
BEGIN:VEVENT
DTSTART;TZID=UTC:20220318T093000
DTEND;TZID=UTC:20220318T180000
DTSTAMP:20260422T215732
CREATED:20220217T192413Z
LAST-MODIFIED:20220217T192413Z
UID:2447-1647595800-1647626400@www.tinghuset.net
SUMMARY:Anja Reich
DESCRIPTION:Mødelokale 1.sal
URL:https://www.tinghuset.net/arrangement/anja-reich-3/
END:VEVENT
BEGIN:VEVENT
DTSTART;TZID=UTC:20220318T180000
DTEND;TZID=UTC:20220318T180000
DTSTAMP:20260422T215732
CREATED:20220302T184710Z
LAST-MODIFIED:20220302T184710Z
UID:2463-1647626400-1647626400@www.tinghuset.net
SUMMARY:Møde Himmerland Golf og Spa
DESCRIPTION:Retssalen \nMøde \nHimmerland Golf og Spa  18-3 2022 kl. 18
URL:https://www.tinghuset.net/arrangement/moede-himmerland-golf-og-spa/
END:VEVENT
BEGIN:VEVENT
DTSTART;TZID=Europe/Copenhagen:20220319T090000
DTEND;TZID=Europe/Copenhagen:20220319T170000
DTSTAMP:20260422T215732
CREATED:20220117T201314Z
LAST-MODIFIED:20220217T192141Z
UID:2412-1647680400-1647709200@www.tinghuset.net
SUMMARY:Anja Reich
DESCRIPTION:Kursusdag\nStuen
URL:https://www.tinghuset.net/arrangement/anja-reich-2/
END:VEVENT
BEGIN:VEVENT
DTSTART;TZID=Europe/Copenhagen:20220321T190000
DTEND;TZID=Europe/Copenhagen:20220321T190000
DTSTAMP:20260422T215732
CREATED:20220205T070410Z
LAST-MODIFIED:20220205T070410Z
UID:2419-1647889200-1647889200@www.tinghuset.net
SUMMARY:Møde\, konservative
DESCRIPTION:Retssalen \nKonservative holder møde den 21 marts kl. 19\,00 \nCo. Palle L. Nielsen
URL:https://www.tinghuset.net/arrangement/moede-konservative/
END:VEVENT
BEGIN:VEVENT
DTSTART;TZID=Europe/Copenhagen:20220325T180000
DTEND;TZID=Europe/Copenhagen:20220325T180000
DTSTAMP:20260422T215732
CREATED:20220119T211405Z
LAST-MODIFIED:20220119T211405Z
UID:2414-1648231200-1648231200@www.tinghuset.net
SUMMARY:Drinkskursus for kvinder
DESCRIPTION:Drinkskursus for kvinder den 25 marts kl. 18 \nRene´s Vin & Grønttorv\nØstergade 2b\n9690 Fjerritslev
URL:https://www.tinghuset.net/arrangement/drinkskursus-for-kvinder/
END:VEVENT
END:VCALENDAR