BEGIN:VCALENDAR
VERSION:2.0
PRODID:-//Tinghuset Fjerritslev - ECPv6.2.6//NONSGML v1.0//EN
CALSCALE:GREGORIAN
METHOD:PUBLISH
X-WR-CALNAME:Tinghuset Fjerritslev
X-ORIGINAL-URL:https://www.tinghuset.net
X-WR-CALDESC:Begivenheder for Tinghuset Fjerritslev
REFRESH-INTERVAL;VALUE=DURATION:PT1H
X-Robots-Tag:noindex
X-PUBLISHED-TTL:PT1H
BEGIN:VTIMEZONE
TZID:UTC
BEGIN:STANDARD
TZOFFSETFROM:+0000
TZOFFSETTO:+0000
TZNAME:UTC
DTSTART:20220101T000000
END:STANDARD
END:VTIMEZONE
BEGIN:VEVENT
DTSTART;TZID=UTC:20220705T200000
DTEND;TZID=UTC:20220705T210000
DTSTAMP:20260422T164955
CREATED:20220601T180601Z
LAST-MODIFIED:20220601T181303Z
UID:2554-1657051200-1657054800@www.tinghuset.net
SUMMARY:Sange ved havet
DESCRIPTION:Fællessang i solnedgangen uden for Havbådehuset i Slettestrand \nHver tirsdag i juli måned kl. 20.00 – 21.00 \nAlle er velkomne – gratis adgang. \nTag gerne klapstol\, tæppe og paraply med. \nEfter fællessangen serveres kaffe og kage til 25 kr. \nAftenens akkompagnatør: Per Gregersen \nhttp://hanherred.dk/sangevedhavet/ \n 
URL:https://www.tinghuset.net/arrangement/sange-ved-havet/
CATEGORIES:Forside,slideshow
END:VEVENT
BEGIN:VEVENT
DTSTART;TZID=UTC:20220711T090000
DTEND;TZID=UTC:20220711T110000
DTSTAMP:20260422T164955
CREATED:20220710T193940Z
LAST-MODIFIED:20220710T194523Z
UID:2577-1657530000-1657537200@www.tinghuset.net
SUMMARY:Kunsten i Han Herred
DESCRIPTION:
URL:https://www.tinghuset.net/arrangement/kunsten-i-han-herred/
END:VEVENT
BEGIN:VEVENT
DTSTART;TZID=UTC:20220712T200000
DTEND;TZID=UTC:20220712T210000
DTSTAMP:20260422T164955
CREATED:20220601T180720Z
LAST-MODIFIED:20220601T181415Z
UID:2556-1657656000-1657659600@www.tinghuset.net
SUMMARY:Sange ved havet
DESCRIPTION:Fællessang i solnedgangen uden for Havbådehuset i Slettestrand \nHver tirsdag i juli måned kl. 20.00 – 21.00 \nAlle er velkomne – gratis adgang. \nTag gerne klapstol\, tæppe og paraply med. \nEfter fællessangen serveres kaffe og kage til 25 kr. \nAftenens akkompagnatør: Anders Moltsen \nhttp://hanherred.dk/sangevedhavet/
URL:https://www.tinghuset.net/arrangement/sange-ved-havet-2/
CATEGORIES:Forside,slideshow
END:VEVENT
BEGIN:VEVENT
DTSTART;TZID=UTC:20220719T200000
DTEND;TZID=UTC:20220719T210000
DTSTAMP:20260422T164955
CREATED:20220601T180902Z
LAST-MODIFIED:20220601T181356Z
UID:2558-1658260800-1658264400@www.tinghuset.net
SUMMARY:Sange ved havet
DESCRIPTION:Fællessang i solnedgangen uden for Havbådehuset i Slettestrand \nHver tirsdag i juli måned kl. 20.00 – 21.00 \nAlle er velkomne – gratis adgang. \nTag gerne klapstol\, tæppe og paraply med. \nEfter fællessangen serveres kaffe og kage til 25 kr. \nAftenens akkompagnatør: Peter Olsen \nhttp://hanherred.dk/sangevedhavet/
URL:https://www.tinghuset.net/arrangement/sange-ved-havet-3/
CATEGORIES:Forside,slideshow
END:VEVENT
BEGIN:VEVENT
DTSTART;TZID=UTC:20220726T200000
DTEND;TZID=UTC:20220726T210000
DTSTAMP:20260422T164955
CREATED:20220601T181001Z
LAST-MODIFIED:20220804T215541Z
UID:2560-1658865600-1658869200@www.tinghuset.net
SUMMARY:Sange ved havet
DESCRIPTION:Fællessang i solnedgangen uden for Havbådehuset i Slettestrand \nHver tirsdag i juli måned kl. 20.00 – 21.00 \nAlle er velkomne – gratis adgang. \nTag gerne klapstol\, tæppe og paraply med. \nEfter fællessangen serveres kaffe og kage til 25 kr. \nAftenens akkompagnatør: Jens Christian og Gitte \nhttp://hanherred.dk/sangevedhavet/
URL:https://www.tinghuset.net/arrangement/sange-ved-havet-4/
CATEGORIES:Forside,slideshow
ATTACH;FMTTYPE=image/jpeg:https://www.tinghuset.net/wp-content/uploads/2018/06/sange-ved-havet-slettestrand-2014.jpg
END:VEVENT
END:VCALENDAR